BEGIN:VCALENDAR
VERSION:2.0
PRODID:-//wp-events-plugin.com//7.2.2.1//EN
BEGIN:VEVENT
UID:3@contaytos.com
DTSTART;TZID=Europe/Madrid:20230515T000000
DTEND;TZID=Europe/Madrid:20230515T000000
DTSTAMP:20230424T151637Z
URL:https://www.contaytos.com/events/rendicion-de-la-cuenta-general-de-202
 2/
SUMMARY:Rendición de la Cuenta General de 2022
DESCRIPTION:Normativa: Art. 212.1 TRLRHL.\nProcedimiento: Rendición de l
 a Cuenta General por el Presidente de la Corporación.
CATEGORIES:Todas las entidades locales
END:VEVENT
BEGIN:VTIMEZONE
TZID:Europe/Madrid
X-LIC-LOCATION:Europe/Madrid
BEGIN:DAYLIGHT
DTSTART:20230326T030000
TZOFFSETFROM:+0100
TZOFFSETTO:+0200
TZNAME:CEST
END:DAYLIGHT
END:VTIMEZONE
END:VCALENDAR