BEGIN:VCALENDAR
VERSION:2.0
PRODID:-//wp-events-plugin.com//7.2.2.1//EN
BEGIN:VEVENT
UID:14@contaytos.com
DTSTART;VALUE=DATE:20230915
DTEND;VALUE=DATE:20230916
DTSTAMP:20230424T163236Z
URL:https://www.contaytos.com/events/remision-de-informacion-sobre-lineas-
 fundamentales-del-presupuesto-2024/
SUMMARY:Remisión de información sobre líneas fundamentales del presupues
 to 2024
DESCRIPTION:Normativa: Art. 15.1 Orden HAP/2105/2012.\nProcedimiento: Pla
 taforma AUTORIZA / Líneas Fundamentales del Presupuesto\, mediante firma 
 electrónica.
CATEGORIES:Todas las entidades locales
END:VEVENT
END:VCALENDAR