BEGIN:VCALENDAR
VERSION:2.0
PRODID:-//wp-events-plugin.com//7.2.2.1//EN
BEGIN:VEVENT
UID:16@contaytos.com
DTSTART;VALUE=DATE:20230915
DTEND;VALUE=DATE:20230916
DTSTAMP:20230424T163406Z
URL:https://www.contaytos.com/events/previsiones-de-ingresos-y-gastos-en-2
 024-de-sociedades-mercantiles-publicas/
SUMMARY:Previsiones de ingresos y gastos en 2024 de sociedades mercantiles 
 públicas
DESCRIPTION:Normativa: Art. 168.3 TRLRHL.\nProcedimiento: Remisión a la 
 entidad local correspondiente\, acompañada de programas anuales de actuac
 ión\, inversiones y financiación.
CATEGORIES:Todas las entidades locales
END:VEVENT
END:VCALENDAR