BEGIN:VCALENDAR
VERSION:2.0
PRODID:-//wp-events-plugin.com//7.2.2.1//EN
BEGIN:VEVENT
UID:32@contaytos.com
DTSTART:20241031T000000Z
DTEND:20241031T000000Z
DTSTAMP:20240912T124757Z
URL:https://www.contaytos.com/events/periodo-medio-de-pago-mensual/
SUMMARY:Periodo Medio de Pago Mensual
DESCRIPTION:
END:VEVENT
END:VCALENDAR