BEGIN:VCALENDAR
VERSION:2.0
PRODID:-//wp-events-plugin.com//7.2.2.1//EN
BEGIN:VEVENT
UID:17@contaytos.com
DTSTART;VALUE=DATE:20230930
DTEND;VALUE=DATE:20231001
DTSTAMP:20230424T163611Z
URL:https://www.contaytos.com/events/periodo-medio-de-pago-mensual-agosto-
 2023/
SUMMARY:Período Medio de Pago Mensual (agosto 2023)
DESCRIPTION:Normativa: Art. 5.4 RD 635/2014.\nProcedimiento: Plataforma A
 UTORIZA / PMP / PMP\, mediante firma electrónica.
CATEGORIES:EELL de los arts. 111 y 135 TRLRHL
END:VEVENT
END:VCALENDAR