BEGIN:VCALENDAR
VERSION:2.0
PRODID:-//wp-events-plugin.com//7.2.2.1//EN
BEGIN:VEVENT
UID:28@contaytos.com
DTSTART:20241031T000000Z
DTEND:20241031T000000Z
DTSTAMP:20240912T125540Z
URL:https://www.contaytos.com/events/informe-de-seguimiento-del-plan-de-aj
 usto/
SUMMARY:Informe de seguimiento del plan de ajuste
DESCRIPTION:
END:VEVENT
END:VCALENDAR