BEGIN:VCALENDAR
VERSION:2.0
PRODID:-//wp-events-plugin.com//7.2.2.1//EN
BEGIN:VEVENT
UID:40@contaytos.com
DTSTART;VALUE=DATE:20260131
DTEND;VALUE=DATE:20260201
DTSTAMP:20260119T075558Z
URL:https://www.contaytos.com/events/informe-de-morosidad-4o-trimestre-202
 5-2/
SUMMARY:Informe de morosidad ( 4º trimestre 2025)
DESCRIPTION:
END:VEVENT
END:VCALENDAR