BEGIN:VCALENDAR
VERSION:2.0
PRODID:-//wp-events-plugin.com//7.2.2.1//EN
BEGIN:VEVENT
UID:34@contaytos.com
DTSTART;VALUE=DATE:20260131
DTEND;VALUE=DATE:20260201
DTSTAMP:20260119T075553Z
URL:https://www.contaytos.com/events/ejecucion-trimestral-del-presupuesto-
 4o-trimestre-2025/
SUMMARY:Ejecución trimestral del Presupuesto ( 4º trimestre 2025)
DESCRIPTION:
END:VEVENT
END:VCALENDAR